BEGIN:VCALENDAR
VERSION:2.0
PRODID:-//HCFA - ECPv6.15.18//NONSGML v1.0//EN
CALSCALE:GREGORIAN
METHOD:PUBLISH
X-WR-CALNAME:HCFA
X-ORIGINAL-URL:https://www.hcfa.on.ca
X-WR-CALDESC:Events for HCFA
REFRESH-INTERVAL;VALUE=DURATION:PT1H
X-Robots-Tag:noindex
X-PUBLISHED-TTL:PT1H
BEGIN:VTIMEZONE
TZID:America/Toronto
BEGIN:DAYLIGHT
TZOFFSETFROM:-0500
TZOFFSETTO:-0400
TZNAME:EDT
DTSTART:20140309T070000
END:DAYLIGHT
BEGIN:STANDARD
TZOFFSETFROM:-0400
TZOFFSETTO:-0500
TZNAME:EST
DTSTART:20141102T060000
END:STANDARD
BEGIN:DAYLIGHT
TZOFFSETFROM:-0500
TZOFFSETTO:-0400
TZNAME:EDT
DTSTART:20150308T070000
END:DAYLIGHT
BEGIN:STANDARD
TZOFFSETFROM:-0400
TZOFFSETTO:-0500
TZNAME:EST
DTSTART:20151101T060000
END:STANDARD
BEGIN:DAYLIGHT
TZOFFSETFROM:-0500
TZOFFSETTO:-0400
TZNAME:EDT
DTSTART:20160313T070000
END:DAYLIGHT
BEGIN:STANDARD
TZOFFSETFROM:-0400
TZOFFSETTO:-0500
TZNAME:EST
DTSTART:20161106T060000
END:STANDARD
BEGIN:DAYLIGHT
TZOFFSETFROM:-0500
TZOFFSETTO:-0400
TZNAME:EDT
DTSTART:20170312T070000
END:DAYLIGHT
BEGIN:STANDARD
TZOFFSETFROM:-0400
TZOFFSETTO:-0500
TZNAME:EST
DTSTART:20171105T060000
END:STANDARD
BEGIN:DAYLIGHT
TZOFFSETFROM:-0500
TZOFFSETTO:-0400
TZNAME:EDT
DTSTART:20180311T070000
END:DAYLIGHT
BEGIN:STANDARD
TZOFFSETFROM:-0400
TZOFFSETTO:-0500
TZNAME:EST
DTSTART:20181104T060000
END:STANDARD
BEGIN:DAYLIGHT
TZOFFSETFROM:-0500
TZOFFSETTO:-0400
TZNAME:EDT
DTSTART:20190310T070000
END:DAYLIGHT
BEGIN:STANDARD
TZOFFSETFROM:-0400
TZOFFSETTO:-0500
TZNAME:EST
DTSTART:20191103T060000
END:STANDARD
BEGIN:DAYLIGHT
TZOFFSETFROM:-0500
TZOFFSETTO:-0400
TZNAME:EDT
DTSTART:20200308T070000
END:DAYLIGHT
BEGIN:STANDARD
TZOFFSETFROM:-0400
TZOFFSETTO:-0500
TZNAME:EST
DTSTART:20201101T060000
END:STANDARD
END:VTIMEZONE
BEGIN:VEVENT
DTSTART;TZID=America/Toronto:20191010T200000
DTEND;TZID=America/Toronto:20191010T220000
DTSTAMP:20260420T120335
CREATED:20191009T151621Z
LAST-MODIFIED:20191009T151621Z
UID:4516-1570737600-1570744800@www.hcfa.on.ca
SUMMARY:All Candidates Meeting
DESCRIPTION:The HCFA is hosting an All Candidates Meeting for the upcoming Federal Election. Candidates from Huron/Bruce will be at the Holmesville Community Center on October 10th\, 2019 at 8:00 pm. This will be an opportunity to discuss agriculture and rural issues ahead of the election with our local candidates.
URL:https://www.hcfa.on.ca/event/all-candidates-meeting-2/
LOCATION:Holmesville Community Center
END:VEVENT
BEGIN:VEVENT
DTSTART;TZID=America/Toronto:20190923T143000
DTEND;TZID=America/Toronto:20190923T180000
DTSTAMP:20260420T120335
CREATED:20190923T192834Z
LAST-MODIFIED:20190923T192939Z
UID:4493-1569249000-1569261600@www.hcfa.on.ca
SUMMARY:Annual General Meeting
DESCRIPTION:The HCFA Annual General/Regional Meeting will be held October 25th at the Holmesville Community Center. \nCome  and listen to our guest speaker Aaron Breimer share his inspiring story of the ‘One Seed’ Project in Zambia .   \nThis year the ticket prices are: \n29 Years of Age and Under: $15.00 \nOver 29 years of age: $25.00 \nAt this evening the Huron OFA Regional Meeting will take place with the election of OFA Convention Delegates\, and the  OFA Policy Advisory Council Representatives.  \nThe evening starts with a 6:30 social time and a dinner at 7:00. \n  \n 
URL:https://www.hcfa.on.ca/event/annual-general-meeting/
END:VEVENT
BEGIN:VEVENT
DTSTART;TZID=America/Toronto:20180522T160000
DTEND;TZID=America/Toronto:20180522T180000
DTSTAMP:20260420T120335
CREATED:20180523T004819Z
LAST-MODIFIED:20180523T004819Z
UID:4472-1527004800-1527012000@www.hcfa.on.ca
SUMMARY:All Candidates Meeting
DESCRIPTION:
URL:https://www.hcfa.on.ca/event/all-candidates-meeting/
LOCATION:Holmesville Community Center
END:VEVENT
BEGIN:VEVENT
DTSTART;TZID=America/Toronto:20160627T160000
DTEND;TZID=America/Toronto:20160627T183000
DTSTAMP:20260420T120335
CREATED:20150626T224559Z
LAST-MODIFIED:20150728T012840Z
UID:4387-1467043200-1467052200@www.hcfa.on.ca
SUMMARY:Board Meeting
DESCRIPTION:
URL:https://www.hcfa.on.ca/event/board-meeting-10/
END:VEVENT
BEGIN:VEVENT
DTSTART;TZID=America/Toronto:20160425T160000
DTEND;TZID=America/Toronto:20160425T183000
DTSTAMP:20260420T120335
CREATED:20150626T224144Z
LAST-MODIFIED:20150728T013329Z
UID:4385-1461600000-1461609000@www.hcfa.on.ca
SUMMARY:Board Meeting
DESCRIPTION:
URL:https://www.hcfa.on.ca/event/board-meeting-9/
END:VEVENT
BEGIN:VEVENT
DTSTART;TZID=America/Toronto:20160328T150000
DTEND;TZID=America/Toronto:20160328T183000
DTSTAMP:20260420T120335
CREATED:20150626T224102Z
LAST-MODIFIED:20150728T013325Z
UID:4383-1459177200-1459189800@www.hcfa.on.ca
SUMMARY:Board Meeting
DESCRIPTION:
URL:https://www.hcfa.on.ca/event/board-meeting-8/
END:VEVENT
BEGIN:VEVENT
DTSTART;TZID=America/Toronto:20160222T140000
DTEND;TZID=America/Toronto:20160222T173000
DTSTAMP:20260420T120335
CREATED:20150626T223949Z
LAST-MODIFIED:20150728T013321Z
UID:4382-1456149600-1456162200@www.hcfa.on.ca
SUMMARY:Board Meeting
DESCRIPTION:
URL:https://www.hcfa.on.ca/event/board-meeting-7/
END:VEVENT
BEGIN:VEVENT
DTSTART;TZID=America/Toronto:20160125T140000
DTEND;TZID=America/Toronto:20160125T173000
DTSTAMP:20260420T120335
CREATED:20150626T223606Z
LAST-MODIFIED:20150728T013318Z
UID:4381-1453730400-1453743000@www.hcfa.on.ca
SUMMARY:Board Meeting
DESCRIPTION:
URL:https://www.hcfa.on.ca/event/board-meeting-6/
END:VEVENT
BEGIN:VEVENT
DTSTART;TZID=America/Toronto:20151228T140000
DTEND;TZID=America/Toronto:20151228T150000
DTSTAMP:20260420T120335
CREATED:20150626T223452Z
LAST-MODIFIED:20150728T013313Z
UID:4380-1451311200-1451314800@www.hcfa.on.ca
SUMMARY:NO BOARD MEETING IN DECEMBER
DESCRIPTION:
URL:https://www.hcfa.on.ca/event/no-board-meeting-in-december/
END:VEVENT
BEGIN:VEVENT
DTSTART;TZID=America/Toronto:20151123T140000
DTEND;TZID=America/Toronto:20151123T173000
DTSTAMP:20260420T120335
CREATED:20150626T223403Z
LAST-MODIFIED:20150728T013308Z
UID:4379-1448287200-1448299800@www.hcfa.on.ca
SUMMARY:Board Meeting
DESCRIPTION:
URL:https://www.hcfa.on.ca/event/board-meeting-5/
END:VEVENT
BEGIN:VEVENT
DTSTART;TZID=America/Toronto:20151026T160000
DTEND;TZID=America/Toronto:20151026T183000
DTSTAMP:20260420T120335
CREATED:20150626T223314Z
LAST-MODIFIED:20150728T013302Z
UID:4377-1445875200-1445884200@www.hcfa.on.ca
SUMMARY:Board Meeting
DESCRIPTION:
URL:https://www.hcfa.on.ca/event/board-meeting-4/
END:VEVENT
BEGIN:VEVENT
DTSTART;TZID=America/Toronto:20150928T160000
DTEND;TZID=America/Toronto:20150928T183000
DTSTAMP:20260420T120335
CREATED:20150626T222620Z
LAST-MODIFIED:20150728T013257Z
UID:4371-1443456000-1443465000@www.hcfa.on.ca
SUMMARY:Board Meeting
DESCRIPTION:
URL:https://www.hcfa.on.ca/event/board-meeting-3/
END:VEVENT
BEGIN:VEVENT
DTSTART;TZID=America/Toronto:20150918T040000
DTEND;TZID=America/Toronto:20150920T160000
DTSTAMP:20260420T120335
CREATED:20150701T002942Z
LAST-MODIFIED:20150728T015507Z
UID:4441-1442548800-1442764800@www.hcfa.on.ca
SUMMARY:Lucknow Fall Fair
DESCRIPTION:
URL:https://www.hcfa.on.ca/event/lucknow-fall-fair/
END:VEVENT
BEGIN:VEVENT
DTSTART;TZID=America/Toronto:20150917T040000
DTEND;TZID=America/Toronto:20150920T160000
DTSTAMP:20260420T120335
CREATED:20150701T002904Z
LAST-MODIFIED:20150728T015503Z
UID:4440-1442462400-1442764800@www.hcfa.on.ca
SUMMARY:Seaforth Fall Fair
DESCRIPTION:Seaforth Fall Fair September 17-20
URL:https://www.hcfa.on.ca/event/seaforth-fall-fair/
END:VEVENT
BEGIN:VEVENT
DTSTART;TZID=America/Toronto:20150915T040000
DTEND;TZID=America/Toronto:20150916T130000
DTSTAMP:20260420T120335
CREATED:20150701T002821Z
LAST-MODIFIED:20150728T015458Z
UID:4439-1442289600-1442408400@www.hcfa.on.ca
SUMMARY:Brussels Fall Fair
DESCRIPTION:Brussels Fall Fair September 15 & 16
URL:https://www.hcfa.on.ca/event/brussels-fall-fair/
END:VEVENT
BEGIN:VEVENT
DTSTART;TZID=America/Toronto:20150911T040000
DTEND;TZID=America/Toronto:20150913T130000
DTSTAMP:20260420T120335
CREATED:20150701T002716Z
LAST-MODIFIED:20150728T015454Z
UID:4438-1441944000-1442149200@www.hcfa.on.ca
SUMMARY:Huron Pioneer & Threshers Reunion
DESCRIPTION:Huron Pioneer & Threshers Reunion September 11-13
URL:https://www.hcfa.on.ca/event/huron-pioneer-threshers-reunion/
END:VEVENT
BEGIN:VEVENT
DTSTART;TZID=America/Toronto:20150824T160000
DTEND;TZID=America/Toronto:20150824T183000
DTSTAMP:20260420T120335
CREATED:20150626T222534Z
LAST-MODIFIED:20150728T015548Z
UID:4369-1440432000-1440441000@www.hcfa.on.ca
SUMMARY:Board Meeting
DESCRIPTION:
URL:https://www.hcfa.on.ca/event/board-meeting-2/
END:VEVENT
BEGIN:VEVENT
DTSTART;TZID=America/Toronto:20150820T040000
DTEND;TZID=America/Toronto:20150821T130000
DTSTAMP:20260420T120335
CREATED:20150626T223159Z
LAST-MODIFIED:20150728T015942Z
UID:4375-1440043200-1440162000@www.hcfa.on.ca
SUMMARY:Huron County Plowing Match
DESCRIPTION:
URL:https://www.hcfa.on.ca/event/plowing-match/
END:VEVENT
BEGIN:VEVENT
DTSTART;TZID=America/Toronto:20150814T050000
DTEND;TZID=America/Toronto:20150815T170000
DTSTAMP:20260420T120335
CREATED:20150701T002508Z
LAST-MODIFIED:20150728T015804Z
UID:4436-1439528400-1439658000@www.hcfa.on.ca
SUMMARY:Bayfield Fall Fair
DESCRIPTION:Bayfield Fall Fair Friday\, August 14 & Saturday\, August 15
URL:https://www.hcfa.on.ca/event/bayfield-fall-fair/
END:VEVENT
BEGIN:VEVENT
DTSTART;TZID=America/Toronto:20150715T150000
DTEND;TZID=America/Toronto:20150715T170000
DTSTAMP:20260420T120335
CREATED:20150701T002108Z
LAST-MODIFIED:20150728T015750Z
UID:4434-1436972400-1436979600@www.hcfa.on.ca
SUMMARY:Huron County 4-H Go for the Gold @ Clinton United Church
DESCRIPTION:Wednesday\, July 15\, 7pm Registration 7:30pm Games start Huron County 4-H Go for the Gold @ Clinton United Church
URL:https://www.hcfa.on.ca/event/huron-county-4-h-go-for-the-gold-clinton-united-church/
END:VEVENT
END:VCALENDAR