BEGIN:VCALENDAR
VERSION:2.0
PRODID:-//HCFA - ECPv6.15.18//NONSGML v1.0//EN
CALSCALE:GREGORIAN
METHOD:PUBLISH
X-ORIGINAL-URL:https://www.hcfa.on.ca
X-WR-CALDESC:Events for HCFA
REFRESH-INTERVAL;VALUE=DURATION:PT1H
X-Robots-Tag:noindex
X-PUBLISHED-TTL:PT1H
BEGIN:VTIMEZONE
TZID:America/Toronto
BEGIN:DAYLIGHT
TZOFFSETFROM:-0500
TZOFFSETTO:-0400
TZNAME:EDT
DTSTART:20210314T070000
END:DAYLIGHT
BEGIN:STANDARD
TZOFFSETFROM:-0400
TZOFFSETTO:-0500
TZNAME:EST
DTSTART:20211107T060000
END:STANDARD
BEGIN:DAYLIGHT
TZOFFSETFROM:-0500
TZOFFSETTO:-0400
TZNAME:EDT
DTSTART:20220313T070000
END:DAYLIGHT
BEGIN:STANDARD
TZOFFSETFROM:-0400
TZOFFSETTO:-0500
TZNAME:EST
DTSTART:20221106T060000
END:STANDARD
BEGIN:DAYLIGHT
TZOFFSETFROM:-0500
TZOFFSETTO:-0400
TZNAME:EDT
DTSTART:20230312T070000
END:DAYLIGHT
BEGIN:STANDARD
TZOFFSETFROM:-0400
TZOFFSETTO:-0500
TZNAME:EST
DTSTART:20231105T060000
END:STANDARD
END:VTIMEZONE
BEGIN:VEVENT
DTSTART;VALUE=DATE:20221225
DTEND;VALUE=DATE:20221226
DTSTAMP:20260422T043351
CREATED:20221213T193844Z
LAST-MODIFIED:20230221T153004Z
UID:4987-1671926400-1672012799@www.hcfa.on.ca
SUMMARY:MERRY CHRISTMAS
DESCRIPTION:Wishing you and your family a very Merry Christmas!
URL:https://www.hcfa.on.ca/event/merry-christmas/
LOCATION:Vanastra Office\, 42 first avenue\, vanastra\, ontario\, Canada
ATTACH;FMTTYPE=image/jpeg:https://www.hcfa.on.ca/wp-content/uploads/2022/12/Merry-Christmas.jpg
END:VEVENT
BEGIN:VEVENT
DTSTART;VALUE=DATE:20221226
DTEND;VALUE=DATE:20221227
DTSTAMP:20260422T043351
CREATED:20221213T193339Z
LAST-MODIFIED:20230221T152917Z
UID:4985-1672012800-1672099199@www.hcfa.on.ca
SUMMARY:Boxing Day: No Board meeting in December
DESCRIPTION:There is no board meeting in December. Next meeting is January 23rd\, 2023.
URL:https://www.hcfa.on.ca/event/no-board-meeting-in-december-2/
LOCATION:Vanastra Office\, 42 first avenue\, vanastra\, ontario\, Canada
CATEGORIES:Board Meeting
END:VEVENT
END:VCALENDAR